BEGIN:VCALENDAR
VERSION:2.0
PRODID:icalendar-ruby
CALSCALE:GREGORIAN
METHOD:PUBLISH
BEGIN:VEVENT
DTSTAMP:20260423T011401Z
UID:6b23a9b7-9b0b-4a3f-816b-d1944e81f827
DTSTART;VALUE=DATE:20230905
DTEND;VALUE=DATE:20230905
DESCRIPTION:Greater Victoria BMX
LOCATION:1767 Island Hwy  Victoria BC V9B 1J1 CAN
SUMMARY:Local Race Single
URL:/site/bmx_races/515911
END:VEVENT
END:VCALENDAR
