BEGIN:VCALENDAR
VERSION:2.0
PRODID:icalendar-ruby
CALSCALE:GREGORIAN
METHOD:PUBLISH
BEGIN:VEVENT
DTSTAMP:20260421T174852Z
UID:1fa96bfe-3fbb-4d38-84b7-69834a1dc9cb
DTSTART;VALUE=DATE:20230801
DTEND;VALUE=DATE:20230801
DESCRIPTION:Southern Maryland BMX
LOCATION:26600 Budds Creek Rd  Mechanicsville MD 20659 USA
SUMMARY:Local Race Single
URL:/site/bmx_races/516561
END:VEVENT
END:VCALENDAR
