BEGIN:VCALENDAR
VERSION:2.0
PRODID:icalendar-ruby
CALSCALE:GREGORIAN
METHOD:PUBLISH
BEGIN:VEVENT
DTSTAMP:20260423T025157Z
UID:828dcda2-68f7-4a08-b487-1689fb063cf9
DTSTART;VALUE=DATE:20230507
DTEND;VALUE=DATE:20230507
DESCRIPTION:Capital City BMX
LOCATION:516 Dennis Ave  Raleigh NC 27604 USA
SUMMARY:Local Race Single
URL:/site/bmx_races/520049
END:VEVENT
END:VCALENDAR
