BEGIN:VCALENDAR
VERSION:2.0
PRODID:icalendar-ruby
CALSCALE:GREGORIAN
METHOD:PUBLISH
BEGIN:VEVENT
DTSTAMP:20260423T130034Z
UID:2707ba6b-b7e5-4178-8adc-05ae20a36bcd
DTSTART;VALUE=DATE:20230613
DTEND;VALUE=DATE:20230613
DESCRIPTION:Cobb County BMX
LOCATION:3820 Macedonia Rd  Powder Springs GA 30127 USA
SUMMARY:BMX Registration Day Single
URL:/site/bmx_races/520606
END:VEVENT
END:VCALENDAR
