BEGIN:VCALENDAR
VERSION:2.0
PRODID:icalendar-ruby
CALSCALE:GREGORIAN
METHOD:PUBLISH
BEGIN:VEVENT
DTSTAMP:20260424T005018Z
UID:b7108526-b1e6-4309-988a-23319be43c7e
DTSTART;VALUE=DATE:20130725
DTEND;VALUE=DATE:20130725
DESCRIPTION:Rock City BMX
LOCATION:3300 10 Mile Road  Rockford MI 49341 USA
SUMMARY:Practice
URL:/site/bmx_races/52092
END:VEVENT
END:VCALENDAR
