BEGIN:VCALENDAR
VERSION:2.0
PRODID:icalendar-ruby
CALSCALE:GREGORIAN
METHOD:PUBLISH
BEGIN:VEVENT
DTSTAMP:20260424T100708Z
UID:437245ab-b932-49d7-91ec-3a582929614e
DTSTART;VALUE=DATE:20230928
DTEND;VALUE=DATE:20230928
DESCRIPTION:Lincoln Park BMX
LOCATION:South L St & W. Lauridsen Blvd  Port Angeles WA 98362 USA
SUMMARY:Practice
URL:/site/bmx_races/521056
END:VEVENT
END:VCALENDAR
