BEGIN:VCALENDAR
VERSION:2.0
PRODID:icalendar-ruby
CALSCALE:GREGORIAN
METHOD:PUBLISH
BEGIN:VEVENT
DTSTAMP:20260422T000130Z
UID:1ceaf6ad-e036-4ef7-b8b0-8e9a7778ea2d
DTSTART;VALUE=DATE:20230828
DTEND;VALUE=DATE:20230828
DESCRIPTION:Eagle Park BMX
LOCATION:11800 N Horseshoe Bend Rd  Eagle ID 83616 USA
SUMMARY:Practice
URL:/site/bmx_races/521363
END:VEVENT
END:VCALENDAR
