BEGIN:VCALENDAR
VERSION:2.0
PRODID:icalendar-ruby
CALSCALE:GREGORIAN
METHOD:PUBLISH
BEGIN:VEVENT
DTSTAMP:20260421T222311Z
UID:2f9624dd-7e32-4f52-8577-2322302c552c
DTSTART;VALUE=DATE:20230918
DTEND;VALUE=DATE:20230918
DESCRIPTION:Eagle Park BMX
LOCATION:11800 N Horseshoe Bend Rd  Eagle ID 83616 USA
SUMMARY:Practice
URL:/site/bmx_races/521366
END:VEVENT
END:VCALENDAR
