BEGIN:VCALENDAR
VERSION:2.0
PRODID:icalendar-ruby
CALSCALE:GREGORIAN
METHOD:PUBLISH
BEGIN:VEVENT
DTSTAMP:20260419T153127Z
UID:21421cd4-9563-40a2-889d-857dfe0e0065
DTSTART;VALUE=DATE:20230117
DTEND;VALUE=DATE:20230117
DESCRIPTION:ORL BMX
LOCATION:4801 W Colonial Dr  Orlando FL 32808 USA
SUMMARY:Local Race Single
URL:/site/bmx_races/521427
END:VEVENT
END:VCALENDAR
