BEGIN:VCALENDAR
VERSION:2.0
PRODID:icalendar-ruby
CALSCALE:GREGORIAN
METHOD:PUBLISH
BEGIN:VEVENT
DTSTAMP:20260421T003912Z
UID:c2ba9a01-4c76-4cf0-8050-389138110312
DTSTART;VALUE=DATE:20230314
DTEND;VALUE=DATE:20230314
DESCRIPTION:Circle City BMX
LOCATION:Westgate Park    100 Recreation Rd Dothan AL 36305 USA
SUMMARY:Practice
URL:/site/bmx_races/521533
END:VEVENT
END:VCALENDAR
