BEGIN:VCALENDAR
VERSION:2.0
PRODID:icalendar-ruby
CALSCALE:GREGORIAN
METHOD:PUBLISH
BEGIN:VEVENT
DTSTAMP:20260420T192940Z
UID:8c44f551-ab91-4708-ba40-4f7744bc4ada
DTSTART;VALUE=DATE:20230604
DTEND;VALUE=DATE:20230604
DESCRIPTION:Circle City BMX
LOCATION:Westgate Park    100 Recreation Rd Dothan AL 36305 USA
SUMMARY:Local Race Single
URL:/site/bmx_races/521556
END:VEVENT
END:VCALENDAR
