BEGIN:VCALENDAR
VERSION:2.0
PRODID:icalendar-ruby
CALSCALE:GREGORIAN
METHOD:PUBLISH
BEGIN:VEVENT
DTSTAMP:20260420T174558Z
UID:5729ba22-e327-49cb-a821-996b12b17d85
DTSTART;VALUE=DATE:20230709
DTEND;VALUE=DATE:20230709
DESCRIPTION:Circle City BMX
LOCATION:Westgate Park    100 Recreation Rd Dothan AL 36305 USA
SUMMARY:Local Race Single
URL:/site/bmx_races/521566
END:VEVENT
END:VCALENDAR
