BEGIN:VCALENDAR
VERSION:2.0
PRODID:icalendar-ruby
CALSCALE:GREGORIAN
METHOD:PUBLISH
BEGIN:VEVENT
DTSTAMP:20260420T161324Z
UID:73bc7680-1564-4968-ae2a-4ed8089c95f6
DTSTART;VALUE=DATE:20230813
DTEND;VALUE=DATE:20230813
DESCRIPTION:Circle City BMX
LOCATION:Westgate Park    100 Recreation Rd Dothan AL 36305 USA
SUMMARY:Local Race Single
URL:/site/bmx_races/521576
END:VEVENT
END:VCALENDAR
