BEGIN:VCALENDAR
VERSION:2.0
PRODID:icalendar-ruby
CALSCALE:GREGORIAN
METHOD:PUBLISH
BEGIN:VEVENT
DTSTAMP:20260420T094731Z
UID:bffc39c3-3347-4092-ab3b-705d3243f421
DTSTART;VALUE=DATE:20231205
DTEND;VALUE=DATE:20231205
DESCRIPTION:Circle City BMX
LOCATION:Westgate Park    100 Recreation Rd Dothan AL 36305 USA
SUMMARY:Practice
URL:/site/bmx_races/521609
END:VEVENT
END:VCALENDAR
