BEGIN:VCALENDAR
VERSION:2.0
PRODID:icalendar-ruby
CALSCALE:GREGORIAN
METHOD:PUBLISH
BEGIN:VEVENT
DTSTAMP:20260420T094851Z
UID:c3e2af95-a489-48b2-8e6f-6ff00edcbd48
DTSTART;VALUE=DATE:20231212
DTEND;VALUE=DATE:20231212
DESCRIPTION:Circle City BMX
LOCATION:Westgate Park    100 Recreation Rd Dothan AL 36305 USA
SUMMARY:Practice
URL:/site/bmx_races/521611
END:VEVENT
END:VCALENDAR
