BEGIN:VCALENDAR
VERSION:2.0
PRODID:icalendar-ruby
CALSCALE:GREGORIAN
METHOD:PUBLISH
BEGIN:VEVENT
DTSTAMP:20260421T032151Z
UID:e00eb673-04e1-4cf5-b22d-ae6114e33ee5
DTSTART;VALUE=DATE:20230501
DTEND;VALUE=DATE:20230501
DESCRIPTION:Westmoreland BMX
LOCATION:200 Park Road  Apollo PA 15613 USA
SUMMARY:Non-Riding Event
URL:/site/bmx_races/522397
END:VEVENT
END:VCALENDAR
