BEGIN:VCALENDAR
VERSION:2.0
PRODID:icalendar-ruby
CALSCALE:GREGORIAN
METHOD:PUBLISH
BEGIN:VEVENT
DTSTAMP:20260425T214454Z
UID:202f2d5f-fc51-4114-8ea1-f206d67144cf
DTSTART;VALUE=DATE:20230220
DTEND;VALUE=DATE:20230220
DESCRIPTION:Desoto BMX
LOCATION:Grimes Park 500 E. Centre Park Blvd Desoto TX 75115 USA
SUMMARY:Local Race Single
URL:/site/bmx_races/522540
END:VEVENT
END:VCALENDAR
