BEGIN:VCALENDAR
VERSION:2.0
PRODID:icalendar-ruby
CALSCALE:GREGORIAN
METHOD:PUBLISH
BEGIN:VEVENT
DTSTAMP:20260420T192801Z
UID:09c04f61-eaaf-4b1a-afda-642a286cacc5
DTSTART;VALUE=DATE:20231017
DTEND;VALUE=DATE:20231017
DESCRIPTION:Westmoreland BMX
LOCATION:200 Park Road  Apollo PA 15613 USA
SUMMARY:Local Race Single
URL:/site/bmx_races/522806
END:VEVENT
END:VCALENDAR
