BEGIN:VCALENDAR
VERSION:2.0
PRODID:icalendar-ruby
CALSCALE:GREGORIAN
METHOD:PUBLISH
BEGIN:VEVENT
DTSTAMP:20260421T123936Z
UID:171a72db-4bd8-4354-a20d-8824121ae4e8
DTSTART;VALUE=DATE:20230814
DTEND;VALUE=DATE:20230814
DESCRIPTION:Twin Silo BMX
LOCATION:5400 Ziegler Rd.   Ft Collins CO 80528 USA
SUMMARY:Local Race Single
URL:/site/bmx_races/523173
END:VEVENT
END:VCALENDAR
