BEGIN:VCALENDAR
VERSION:2.0
PRODID:icalendar-ruby
CALSCALE:GREGORIAN
METHOD:PUBLISH
BEGIN:VEVENT
DTSTAMP:20260421T123926Z
UID:42840240-eff7-4848-ba01-7cd40b77fab8
DTSTART;VALUE=DATE:20230821
DTEND;VALUE=DATE:20230821
DESCRIPTION:Twin Silo BMX
LOCATION:5400 Ziegler Rd.   Ft Collins CO 80528 USA
SUMMARY:Local Race Single
URL:/site/bmx_races/523174
END:VEVENT
END:VCALENDAR
