BEGIN:VCALENDAR
VERSION:2.0
PRODID:icalendar-ruby
CALSCALE:GREGORIAN
METHOD:PUBLISH
BEGIN:VEVENT
DTSTAMP:20260421T123936Z
UID:4ef7e550-9028-4c57-b5ed-fa4bf765fd0d
DTSTART;VALUE=DATE:20230828
DTEND;VALUE=DATE:20230828
DESCRIPTION:Twin Silo BMX
LOCATION:5400 Ziegler Rd.   Ft Collins CO 80528 USA
SUMMARY:Local Race Single
URL:/site/bmx_races/523175
END:VEVENT
END:VCALENDAR
