BEGIN:VCALENDAR
VERSION:2.0
PRODID:icalendar-ruby
CALSCALE:GREGORIAN
METHOD:PUBLISH
BEGIN:VEVENT
DTSTAMP:20260423T023455Z
UID:e46af838-c4cd-4798-9aa8-77de1063db6f
DTSTART;VALUE=DATE:20230109
DTEND;VALUE=DATE:20230109
DESCRIPTION:Yuma BMX
LOCATION:3067 S Pacific Ave  Yuma AZ 85364 USA
SUMMARY:Local Race Single
URL:/site/bmx_races/523384
END:VEVENT
END:VCALENDAR
