BEGIN:VCALENDAR
VERSION:2.0
PRODID:icalendar-ruby
CALSCALE:GREGORIAN
METHOD:PUBLISH
BEGIN:VEVENT
DTSTAMP:20260423T023452Z
UID:2aa8f6bc-dcc1-42b3-8973-ffcd0929b679
DTSTART;VALUE=DATE:20230118
DTEND;VALUE=DATE:20230118
DESCRIPTION:Yuma BMX
LOCATION:3067 S Pacific Ave  Yuma AZ 85364 USA
SUMMARY:Local Race Single
URL:/site/bmx_races/523387
END:VEVENT
END:VCALENDAR
