BEGIN:VCALENDAR
VERSION:2.0
PRODID:icalendar-ruby
CALSCALE:GREGORIAN
METHOD:PUBLISH
BEGIN:VEVENT
DTSTAMP:20260422T212454Z
UID:6aeae783-8627-4139-9af4-66d0a5ecacae
DTSTART;VALUE=DATE:20230622
DTEND;VALUE=DATE:20230622
DESCRIPTION:Falcon BMX
LOCATION:Falcon Field 200 Westfield Road Meriden CT 06450 USA
SUMMARY:Local Race Single
URL:/site/bmx_races/523634
END:VEVENT
END:VCALENDAR
