BEGIN:VCALENDAR
VERSION:2.0
PRODID:icalendar-ruby
CALSCALE:GREGORIAN
METHOD:PUBLISH
BEGIN:VEVENT
DTSTAMP:20260422T230852Z
UID:142541fc-f303-4773-bf12-913c1a588070
DTSTART;VALUE=DATE:20230522
DTEND;VALUE=DATE:20230522
DESCRIPTION:Falcon BMX
LOCATION:Falcon Field 200 Westfield Road Meriden CT 06450 USA
SUMMARY:Practice
URL:/site/bmx_races/523657
END:VEVENT
END:VCALENDAR
