BEGIN:VCALENDAR
VERSION:2.0
PRODID:icalendar-ruby
CALSCALE:GREGORIAN
METHOD:PUBLISH
BEGIN:VEVENT
DTSTAMP:20260422T001023Z
UID:dff764d8-659a-42b5-a27c-e106acacb5f6
DTSTART;VALUE=DATE:20230417
DTEND;VALUE=DATE:20230417
DESCRIPTION:Marysville BMX
LOCATION:618 N Main St  Marysville OH 43040 USA
SUMMARY:Practice
URL:/site/bmx_races/524339
END:VEVENT
END:VCALENDAR
