BEGIN:VCALENDAR
VERSION:2.0
PRODID:icalendar-ruby
CALSCALE:GREGORIAN
METHOD:PUBLISH
BEGIN:VEVENT
DTSTAMP:20260423T074453Z
UID:d72a4160-1e98-479a-98c7-127b01c4abda
DTSTART;VALUE=DATE:20230917
DTEND;VALUE=DATE:20230917
DESCRIPTION:Molalla River BMX
LOCATION:920 Toliver Rd  Molalla OR 97038 USA
SUMMARY:Local Race Single
URL:/site/bmx_races/524929
END:VEVENT
END:VCALENDAR
