BEGIN:VCALENDAR
VERSION:2.0
PRODID:icalendar-ruby
CALSCALE:GREGORIAN
METHOD:PUBLISH
BEGIN:VEVENT
DTSTAMP:20260424T232308Z
UID:8536f0f2-dfbe-4c68-800d-500ce38886c8
DTSTART;VALUE=DATE:20230413
DTEND;VALUE=DATE:20230413
DESCRIPTION:Kamloops BMX
LOCATION:200  1550 Ord Rd   Kamloops BC V2B1N3 CAN
SUMMARY:Local Race Single
URL:/site/bmx_races/525150
END:VEVENT
END:VCALENDAR
