BEGIN:VCALENDAR
VERSION:2.0
PRODID:icalendar-ruby
CALSCALE:GREGORIAN
METHOD:PUBLISH
BEGIN:VEVENT
DTSTAMP:20260423T202009Z
UID:d874e6ad-e928-4de6-993b-1743d72a9e49
DTSTART;VALUE=DATE:20230313
DTEND;VALUE=DATE:20230313
DESCRIPTION:HD BMX
LOCATION:17427 Live Oak St  Hesperia CA 92345 USA
SUMMARY:Local Race Single
URL:/site/bmx_races/525993
END:VEVENT
END:VCALENDAR
