BEGIN:VCALENDAR
VERSION:2.0
PRODID:icalendar-ruby
CALSCALE:GREGORIAN
METHOD:PUBLISH
BEGIN:VEVENT
DTSTAMP:20260419T220647Z
UID:91513e0c-361c-4d7a-8ee1-7f601c761206
DTSTART;VALUE=DATE:20230520
DTEND;VALUE=DATE:20230520
DESCRIPTION:Oldsmar BMX Supercross
LOCATION:Oldsmar Sports Complex 3120 Tampa Road Oldsmar FL 34677 USA
SUMMARY:Local Race Single
URL:/site/bmx_races/526003
END:VEVENT
END:VCALENDAR
