BEGIN:VCALENDAR
VERSION:2.0
PRODID:icalendar-ruby
CALSCALE:GREGORIAN
METHOD:PUBLISH
BEGIN:VEVENT
DTSTAMP:20260423T085506Z
UID:c12cb713-7a7e-4798-b4ec-7fe1b874a669
DTSTART;VALUE=DATE:20230603
DTEND;VALUE=DATE:20230603
DESCRIPTION:Oldsmar BMX Supercross
LOCATION:Oldsmar Sports Complex 3120 Tampa Road Oldsmar FL 34677 USA
SUMMARY:Local Race Single
URL:/site/bmx_races/526009
END:VEVENT
END:VCALENDAR
