BEGIN:VCALENDAR
VERSION:2.0
PRODID:icalendar-ruby
CALSCALE:GREGORIAN
METHOD:PUBLISH
BEGIN:VEVENT
DTSTAMP:20260425T174917Z
UID:9f2f069f-f331-4241-bc58-570c73294384
DTSTART;VALUE=DATE:20230629
DTEND;VALUE=DATE:20230629
DESCRIPTION:Oldsmar BMX Supercross
LOCATION:Oldsmar Sports Complex 3120 Tampa Road Oldsmar FL 34677 USA
SUMMARY:Local Race Single
URL:/site/bmx_races/526020
END:VEVENT
END:VCALENDAR
