BEGIN:VCALENDAR
VERSION:2.0
PRODID:icalendar-ruby
CALSCALE:GREGORIAN
METHOD:PUBLISH
BEGIN:VEVENT
DTSTAMP:20260419T183426Z
UID:cabdd1b3-6fc7-47e2-a926-0bcd50a7882a
DTSTART;VALUE=DATE:20230902
DTEND;VALUE=DATE:20230902
DESCRIPTION:Oldsmar BMX Supercross
LOCATION:Oldsmar Sports Complex 3120 Tampa Road Oldsmar FL 34677 USA
SUMMARY:Local Race Single
URL:/site/bmx_races/526048
END:VEVENT
END:VCALENDAR
