BEGIN:VCALENDAR
VERSION:2.0
PRODID:icalendar-ruby
CALSCALE:GREGORIAN
METHOD:PUBLISH
BEGIN:VEVENT
DTSTAMP:20260422T025744Z
UID:ee21cd87-08cf-4d53-bd05-7257c2c55a4a
DTSTART;VALUE=DATE:20230411
DTEND;VALUE=DATE:20230411
DESCRIPTION:Omaha BMX
LOCATION:11111 W Maple Rd  Omaha NE 68164 USA
SUMMARY:Practice
URL:/site/bmx_races/526312
END:VEVENT
END:VCALENDAR
