BEGIN:VCALENDAR
VERSION:2.0
PRODID:icalendar-ruby
CALSCALE:GREGORIAN
METHOD:PUBLISH
BEGIN:VEVENT
DTSTAMP:20260426T030843Z
UID:0e43b777-fc88-4085-8795-7b558d13392c
DTSTART;VALUE=DATE:20231019
DTEND;VALUE=DATE:20231019
DESCRIPTION:Cape Cod BMX
LOCATION:65 Quaker Meetinghouse Rd   Sandwich MA 02563 USA
SUMMARY:Practice
URL:/site/bmx_races/526710
END:VEVENT
END:VCALENDAR
