BEGIN:VCALENDAR
VERSION:2.0
PRODID:icalendar-ruby
CALSCALE:GREGORIAN
METHOD:PUBLISH
BEGIN:VEVENT
DTSTAMP:20260421T224234Z
UID:2a78e458-f46b-41bf-a2ea-fa8f5c4a63a9
DTSTART;VALUE=DATE:20230722
DTEND;VALUE=DATE:20230722
DESCRIPTION:Omaha BMX
LOCATION:11111 W Maple Rd  Omaha NE 68164 USA
SUMMARY:Warnicke Double
URL:/site/bmx_races/526764
END:VEVENT
END:VCALENDAR
