BEGIN:VCALENDAR
VERSION:2.0
PRODID:icalendar-ruby
CALSCALE:GREGORIAN
METHOD:PUBLISH
BEGIN:VEVENT
DTSTAMP:20260423T143753Z
UID:c46f326e-1874-48ad-b2b4-611dc1f1cdd1
DTSTART;VALUE=DATE:20231008
DTEND;VALUE=DATE:20231008
DESCRIPTION:St. Peters BMX
LOCATION:100 Brown Rd  St. Peters MO 63376 USA
SUMMARY:Local Race Single
URL:/site/bmx_races/527096
END:VEVENT
END:VCALENDAR
