BEGIN:VCALENDAR
VERSION:2.0
PRODID:icalendar-ruby
CALSCALE:GREGORIAN
METHOD:PUBLISH
BEGIN:VEVENT
DTSTAMP:20260421T224354Z
UID:4d25798d-01b8-4a4b-a335-ee955c6051b4
DTSTART;VALUE=DATE:20230511
DTEND;VALUE=DATE:20230511
DESCRIPTION:First State BMX
LOCATION:1045 N Walnut St  Milford DE 19963 USA
SUMMARY:Practice
URL:/site/bmx_races/527125
END:VEVENT
END:VCALENDAR
