BEGIN:VCALENDAR
VERSION:2.0
PRODID:icalendar-ruby
CALSCALE:GREGORIAN
METHOD:PUBLISH
BEGIN:VEVENT
DTSTAMP:20260425T221238Z
UID:82f5d8ef-c09b-44db-b9c4-cd4c4c473aff
DTSTART;VALUE=DATE:20230628
DTEND;VALUE=DATE:20230628
DESCRIPTION:East Moline BMX
LOCATION:1930 Avenue Of The Cities  East Moline IL 61241 USA
SUMMARY:Local Race Single
URL:/site/bmx_races/527837
END:VEVENT
END:VCALENDAR
