BEGIN:VCALENDAR
VERSION:2.0
PRODID:icalendar-ruby
CALSCALE:GREGORIAN
METHOD:PUBLISH
BEGIN:VEVENT
DTSTAMP:20260423T065522Z
UID:b8d83ab7-716d-4bd3-9b19-8c317bcb432b
DTSTART;VALUE=DATE:20230906
DTEND;VALUE=DATE:20230906
DESCRIPTION:Crown Mountain BMX Park
LOCATION:501 Eagle County Drive  El Jebel CO 81623 USA
SUMMARY:Warnicke Single
URL:/site/bmx_races/528166
END:VEVENT
END:VCALENDAR
