BEGIN:VCALENDAR
VERSION:2.0
PRODID:icalendar-ruby
CALSCALE:GREGORIAN
METHOD:PUBLISH
BEGIN:VEVENT
DTSTAMP:20260423T185601Z
UID:93bc29dd-3954-4a71-abc8-c3cf74291b1f
DTSTART;VALUE=DATE:20131102
DTEND;VALUE=DATE:20131102
DESCRIPTION:Lexington BMX
LOCATION:1159 Nazareth Road  Lexington SC 29073 USA
SUMMARY:Local Race Single
URL:/site/bmx_races/52827
END:VEVENT
END:VCALENDAR
