BEGIN:VCALENDAR
VERSION:2.0
PRODID:icalendar-ruby
CALSCALE:GREGORIAN
METHOD:PUBLISH
BEGIN:VEVENT
DTSTAMP:20260424T184216Z
UID:948e420b-c04b-4c08-b2b1-cf87f85f149b
DTSTART;VALUE=DATE:20230513
DTEND;VALUE=DATE:20230513
DESCRIPTION:Trilogy Park BMX
LOCATION:75 W King St  Pottstown PA 19464 USA
SUMMARY:Local Race Single
URL:/site/bmx_races/528334
END:VEVENT
END:VCALENDAR
