BEGIN:VCALENDAR
VERSION:2.0
PRODID:icalendar-ruby
CALSCALE:GREGORIAN
METHOD:PUBLISH
BEGIN:VEVENT
DTSTAMP:20260422T123410Z
UID:d8c8ebf9-257c-42d4-8b3c-a45eee87e91b
DTSTART;VALUE=DATE:20230714
DTEND;VALUE=DATE:20230714
DESCRIPTION:Gallatin Valley BMX
LOCATION: 620 N 5th Ave  Bozeman MT 59715 USA
SUMMARY:Warnicke Single
URL:/site/bmx_races/528506
END:VEVENT
END:VCALENDAR
