BEGIN:VCALENDAR
VERSION:2.0
PRODID:icalendar-ruby
CALSCALE:GREGORIAN
METHOD:PUBLISH
BEGIN:VEVENT
DTSTAMP:20260422T005413Z
UID:50f466bf-ea7d-4ad4-b3ab-3312c3829c8f
DTSTART;VALUE=DATE:20230707
DTEND;VALUE=DATE:20230707
DESCRIPTION:Mike Sedar BMX
LOCATION:789 College Dr  Casper WY 82601 USA
SUMMARY:Earned Double
URL:/site/bmx_races/528525
END:VEVENT
END:VCALENDAR
