BEGIN:VCALENDAR
VERSION:2.0
PRODID:icalendar-ruby
CALSCALE:GREGORIAN
METHOD:PUBLISH
BEGIN:VEVENT
DTSTAMP:20260422T001012Z
UID:df1495ba-f3eb-422b-a779-1478105eb05d
DTSTART;VALUE=DATE:20230616
DTEND;VALUE=DATE:20230616
DESCRIPTION:Omaha BMX
LOCATION:11111 W Maple Rd  Omaha NE 68164 USA
SUMMARY:Local Race Single
URL:/site/bmx_races/528541
END:VEVENT
END:VCALENDAR
