BEGIN:VCALENDAR
VERSION:2.0
PRODID:icalendar-ruby
CALSCALE:GREGORIAN
METHOD:PUBLISH
BEGIN:VEVENT
DTSTAMP:20260420T200739Z
UID:89753eb2-178e-48e6-8a3d-a628e5e3b204
DTSTART;VALUE=DATE:20230523
DTEND;VALUE=DATE:20230523
DESCRIPTION:Hornet`s Nest BMX
LOCATION:6301 Beatties Ford Rd  Charlotte NC 28216 USA
SUMMARY:Practice
URL:/site/bmx_races/528676
END:VEVENT
END:VCALENDAR
