BEGIN:VCALENDAR
VERSION:2.0
PRODID:icalendar-ruby
CALSCALE:GREGORIAN
METHOD:PUBLISH
BEGIN:VEVENT
DTSTAMP:20260420T214605Z
UID:4febcdd1-5ca9-4eeb-bf9f-44730d6dbfd2
DTSTART;VALUE=DATE:20230627
DTEND;VALUE=DATE:20230627
DESCRIPTION:Hornet`s Nest BMX
LOCATION:6301 Beatties Ford Rd  Charlotte NC 28216 USA
SUMMARY:Practice
URL:/site/bmx_races/528681
END:VEVENT
END:VCALENDAR
