BEGIN:VCALENDAR
VERSION:2.0
PRODID:icalendar-ruby
CALSCALE:GREGORIAN
METHOD:PUBLISH
BEGIN:VEVENT
DTSTAMP:20260420T232452Z
UID:22af3697-db94-4d95-80a4-7ed79f047027
DTSTART;VALUE=DATE:20230718
DTEND;VALUE=DATE:20230718
DESCRIPTION:Hornet`s Nest BMX
LOCATION:6301 Beatties Ford Rd  Charlotte NC 28216 USA
SUMMARY:Practice
URL:/site/bmx_races/528684
END:VEVENT
END:VCALENDAR
