BEGIN:VCALENDAR
VERSION:2.0
PRODID:icalendar-ruby
CALSCALE:GREGORIAN
METHOD:PUBLISH
BEGIN:VEVENT
DTSTAMP:20260422T012414Z
UID:61e280d5-1165-49c4-9bd3-fdc71a48b43f
DTSTART;VALUE=DATE:20230515
DTEND;VALUE=DATE:20230515
DESCRIPTION:Derby City BMX
LOCATION:3000 Freys Hill Rd  Louisville KY 40241 USA
SUMMARY:Practice
URL:/site/bmx_races/528705
END:VEVENT
END:VCALENDAR
