BEGIN:VCALENDAR
VERSION:2.0
PRODID:icalendar-ruby
CALSCALE:GREGORIAN
METHOD:PUBLISH
BEGIN:VEVENT
DTSTAMP:20260421T222328Z
UID:219e0244-f841-4d2f-9c59-3832b6bb6dd1
DTSTART;VALUE=DATE:20230712
DTEND;VALUE=DATE:20230712
DESCRIPTION:Derby City BMX
LOCATION:3000 Freys Hill Rd  Louisville KY 40241 USA
SUMMARY:Local Race Single
URL:/site/bmx_races/528815
END:VEVENT
END:VCALENDAR
